BEGIN:VCALENDAR
VERSION:2.0
PRODID:icalendar-ruby
CALSCALE:GREGORIAN
METHOD:PUBLISH
BEGIN:VEVENT
DTSTAMP:20260422T090050Z
UID:5-487834@stbcworship.com
DTSTART:20260823T140000Z
DTEND:20260823T160000Z
CLASS:PUBLIC
CREATED:20260421T222908
DESCRIPTION:Sunday Worship
LAST-MODIFIED:20260421T222908
LOCATION:
SUMMARY:Sunday Worship
URL;VALUE=URI:https://www.stbcworship.com/events/sunday-worship/2026-08-23
END:VEVENT
END:VCALENDAR
