BEGIN:VCALENDAR
VERSION:2.0
PRODID:icalendar-ruby
CALSCALE:GREGORIAN
METHOD:PUBLISH
BEGIN:VEVENT
DTSTAMP:20260423T055749Z
UID:6-490304@stbcworship.com
DTSTART:20261021T203000Z
DTEND:20261021T220000Z
CLASS:PUBLIC
CREATED:20260423T000757
DESCRIPTION:
LAST-MODIFIED:20260423T000757
LOCATION:
SUMMARY:Sisters Of Hope
URL;VALUE=URI:https://www.stbcworship.com/events/sisters-of-hope/2026-10-21
ATTACH;FILENAME=Image-%281%29.jpg;FMTTYPE=image/jpeg:https://dq5pwpg1q8ru0.
 cloudfront.net/2025/12/11/18/39/16/df9ce1b3-3a2a-41fb-8483-2052e8d84eb7/Im
 age-%25281%2529.jpg
END:VEVENT
END:VCALENDAR
