BEGIN:VCALENDAR
VERSION:2.0
PRODID:icalendar-ruby
CALSCALE:GREGORIAN
METHOD:PUBLISH
BEGIN:VEVENT
DTSTAMP:20260424T161239Z
UID:8-493581@stbcworship.com
DTSTART:20260930T220000Z
DTEND:20260930T230000Z
CLASS:PUBLIC
CREATED:20260424T123043
DESCRIPTION:Church Bible Study
LAST-MODIFIED:20260424T123043
LOCATION:
SUMMARY:Church Bible Study
URL;VALUE=URI:https://www.stbcworship.com/events/church-bible-study/2026-09
 -30
ATTACH;FILENAME=AAwt.jpg;FMTTYPE=image/jpeg:https://dq5pwpg1q8ru0.cloudfron
 t.net/2025/12/09/20/54/53/12c752c0-10cc-4e4b-bb9a-d88e8e12d7d2/AAwt.jpg
END:VEVENT
END:VCALENDAR
